BEGIN:VCALENDAR
VERSION:2.0
CALSCALE:GREGORIAN
BEGIN:VEVENT
SUMMARY:ATELIER &quot;Yin-Yang (vinyasa) &amp; Bain sonore de Cristal&quot;
DTSTART;TZID=Europe/Paris:20231210T100000
DTEND;TZID=Europe/Paris:20231210T120000
LOCATION:Le Quai des Possibles
DESCRIPTION: — Venez explorez les énergies complémentaires le Yin et le Yang* à travers une séquence des postures dynamiques du VINYASA et statiques du YIN yoga, soutenue par les respirations yogiques. 

— Laissez les sons captivants des bols en Cristal de Quartz vous transporter dans un état de tranquillité bienheureuse pendant le BAIN SONORE, qui vous sera proposé après les pratiques posturales. Les fréquences vibratoires cristallines rappellent au champ énergétique du corps son état d’origine harmonieux et le ramène à un état d’équilibre idéal. 

Repartez ressourcé, le corps et l’esprit harmonisés, l&#039;énergie vitale (le Qi) régénérée grâce à l&#039;équilibre dynamique entre ces deux forces (Yin-Yang) !

Accessible à tous ! (débutants bonne forme physique)

* Selon les principes du Taoïsme, le Yin représente le passif, l&#039;intérieur, l&#039;obscurité, le chaud, la terre (son aspect renvoie au féminin); tandis que le Yang représente l&#039;action, l&#039;extérieur, la lumière, le froid, le ciel (son aspect renvoie au masculin). Yin-Yang, sa particularité étant que l&#039;un n&#039;existe pas sans l&#039;autre. Parfois l&#039;un des deux aspects domine.

— Participation : 30€ sur réservation en ligne
📩  namaste@ohm-fusion.fr
RDV à 10h au Quai des Possibles - espace Bien-être au rdc à droite au fond (parking gratuit devant)

A très vite sur le tapis !
Namaste  🙏🏻
Anastasia
STATUS:CONFIRMED
SEQUENCE:0
END:VEVENT
END:VCALENDAR