BEGIN:VCALENDAR
VERSION:2.0
CALSCALE:GREGORIAN
BEGIN:VEVENT
SUMMARY:ACOMPTE 🌸 RETRAITE YOGA 🌸 WE du 7 au 9 Juin 2024 à La Manche, Normandie • réservation
DTSTART;TZID=Europe/Paris:20240607T150000
DTEND;TZID=Europe/Paris:20240607T210000
LOCATION:La Manche (Normandie)
DESCRIPTION: 3 jours et 2 nuits à l&#039;ancien Fort en bord de mer, en pension complète 
Plus d&#039;info sur le site web d&#039;Ohm Fusion - menu Retraites
STATUS:CONFIRMED
SEQUENCE:0
END:VEVENT
END:VCALENDAR