BEGIN:VCALENDAR
VERSION:2.0
CALSCALE:GREGORIAN
BEGIN:VEVENT
SUMMARY:ATELIER (fête des Mères) 💗 VINYASA &amp; Bain de Cristal
DTSTART;TZID=Europe/Paris:20240526T101500
DTEND;TZID=Europe/Paris:20240526T121500
LOCATION:Quai des Possibles à St Germain 78
DESCRIPTION: Namasté,
Hâte de vous accueillir pour cet atelier ouvert à toutes les femmes, spécial fête des Mères. Venez seule, avec votre amie yogi ou entre Mère et fille 💗 :))

Deux temps suspendus :
🌸  Nous partirons progressivement dans les mouvement fluides et conscients à travers une séquence des postures énergisantes du VINYASA yoga
🌸💓  Puis une relaxation guidée en Savasana nous attend, allongé sous un plaid. Laissons les sons purs et captivants des bols en Cristal de Quartz nous transporter dans un état de tranquillité bienheureuse pendant le bain de Cristal** (fréquence 432 Hz *** - le point d’équilibre sonore de la nature)

— Participation : 35€ (-10% avec code abonné) / 60€ - tarif spécial &quot;Mère et fille&quot; (sur réservation en ligne)
📩  renseignements à namaste@ohm-fusion.fr

— RDV: espace &quot;Bulle pour soi&quot; situé au RDC de l&#039;ancienne gare du Quai (parking gratuit devant)
— Matériel: votre tapis, plaid, gourde (le prêt des tapis est possible)

* La méthode dynamique sera accessible à toutes (débutantes bienvenue, bonne forme physique)
** Les bols en Cristal de Quartz émettent un son pur, vibratoire et circulaire, générant un massage intérieur paisible. Progressivement chacun à son rythme est transporté dans un voyage à la fois intérieur et cosmique, libérateur et régénérant sur toutes les dimensions de l&#039;être (physique, émotionnelle et spirituelle)
*** 432 Hertz vibre sur les principes du rapport d’or PHI et unifie les propriétés de la lumière, du temps, de l’espace, de la matière, de la gravité et du magnétisme avec la biologie, le code ADN et la conscience

A très vite 🙏🏻
Anastasia
STATUS:CONFIRMED
SEQUENCE:0
END:VEVENT
END:VCALENDAR