BEGIN:VCALENDAR
VERSION:2.0
CALSCALE:GREGORIAN
BEGIN:VEVENT
SUMMARY:ATELIER ☯️ &quot;Équilibre corps-esprit&quot; - YIN yoga, Diapasons &amp; Bain de Cristal
DTSTART;TZID=Europe/Paris:20241130T163000
DTEND;TZID=Europe/Paris:20241130T183000
LOCATION:Ohm Studio
DESCRIPTION: L&#039;atelier &quot;Équilibre corps-esprit&quot; vous invite dans un voyage à la fois intérieur et cosmique en douceur. Un moment de  profonde détente et de reconnexion juste pour vous. 

 🪄 — Le YIN yoga, bien qu’il s’agit d’une pratique posturale douce au sol, il stimule les tissus profonds (fascias, tendons, articulations, os, muscles,…) et s’axe sur tous les méridiens d’acupuncture et leurs connexions aux organes pour une régénération et un rééquilibre profond de tous les systèmes. 💓 La séquence sera accompagnée par diverses techniques respiratoires et instruments de Sonothérapie (bols Tibétains, Diapasons et bien d&#039;autres).
🪄 —  Puis, laissez les sons envoutants des bols en Cristal de Quartz vous transporter dans un état de tranquillité profonde, allongé sous un plaid. Ce bain sonore est conçu pour aligner et restaurer votre énergie vitale, libérer des blocages et déséquilibres (physiques, émotionnels, psychiques, spirituel), favorisant un sentiment d&#039;apaisement, d&#039;harmonie intérieure et de renouveau.

Vers l&#039;harmonie plus grande entre le corps et l&#039;esprit !

💓 Géométriquement parfait, le Cristal de quartz émet un son pur, vibratoire et circulaire. Ces fréquences pénètrent le corps humain générant un massage intérieur harmonieux et paisible. Les effets positifs créés à partir des états méditatifs des fréquences cristallines comprennent le système immunitaire, la relaxation musculaire, la libération du stress et des émotions, calment le mental (le rythme cardiaque, la tension artérielle, le taux respiratoire, l’adrénaline, le cortisol et le cholestérol sont diminués)

PARTICIPATION: 35€ (sur réservation en ligne)
MATÉRIEL: tout est sur place  (vous pouvez apporter votre plaid pour plus de confort, gourde)

À très bientôt pour ce moment suspendu !
Anastasia
STATUS:CONFIRMED
SEQUENCE:0
END:VEVENT
END:VCALENDAR