BEGIN:VCALENDAR
VERSION:2.0
CALSCALE:GREGORIAN
BEGIN:VEVENT
SUMMARY:กายสตรองใจสงบ (Restore &amp; Rebalance)
DTSTART;TZID=Asia/Bangkok:20250829T130000
DTEND;TZID=Asia/Bangkok:20250829T140000
LOCATION:Ohm Yoga Place
DESCRIPTION: คลาสโยคะที่ออกแบบตามธาตุในร่างกายเพื่อฟื้นฟูสมดุลจากภายใน เสริมพลังชีวิต ปรับระบบย่อย อารมณ์ และลมหายใจอย่างลึกซึ้ง เหมาะสำหรับผู้ที่ต้องการเริ่มต้นดูแลสุขภาพแบบองค์รวม รวมถึงผู้ที่มีอาการเจ็บป่วยต่าง ๆ เช่น เบาหวาน หัวใจ ออฟฟิสซินโดรม นอนไม่หลับ เครียด ซึมเศร้า ฯลฯ
STATUS:CONFIRMED
SEQUENCE:0
END:VEVENT
END:VCALENDAR