BEGIN:VCALENDAR
VERSION:2.0
CALSCALE:GREGORIAN
BEGIN:VEVENT
SUMMARY:Aroma Flow 60
DTSTART;TZID=America/New_York:20230821T193000
DTEND;TZID=America/New_York:20230821T203000
LOCATION:Online
DESCRIPTION: 60 minutes all-level flow
STATUS:CONFIRMED
SEQUENCE:0
END:VEVENT
END:VCALENDAR