BEGIN:VCALENDAR
VERSION:2.0
CALSCALE:GREGORIAN
BEGIN:VEVENT
SUMMARY:Naschoolse yoga: Haasje over
DTSTART;TZID=Europe/Brussels:20220419T160000
DTEND;TZID=Europe/Brussels:20220419T170000
LOCATION:Freinetschool De Pit, Overstraat 37, Diest
DESCRIPTION: Het paaskonijn is langs geweest! We snuffelen net zo hard met onze vuuradem, klauteren en springen over elkaar heen en spitsen onze oren voor de luisteroefening.
STATUS:CONFIRMED
SEQUENCE:0
END:VEVENT
END:VCALENDAR