BEGIN:VCALENDAR
VERSION:2.0
CALSCALE:GREGORIAN
BEGIN:VEVENT
SUMMARY:Naschoolse yoga: Pluk je geluk
DTSTART;TZID=Europe/Brussels:20220314T160000
DTEND;TZID=Europe/Brussels:20220314T170000
LOCATION:Freinetschool De Pit, Overstraat 37, 3290 Diest
DESCRIPTION: Zondag is het Dag van het geluk. We gaan met het boek &#039;Geluk voor kinderen&#039; aan de slag. We doen een yoga doe-verhaal over de papegaai, Kea. Zij wordt gelukkig van nieuwe dingen te leren. We sluiten af met de praatstok en kijken in ons hartje wat ons zelf gelukkig maakt.
STATUS:CONFIRMED
SEQUENCE:0
END:VEVENT
END:VCALENDAR