BEGIN:VCALENDAR
VERSION:2.0
CALSCALE:GREGORIAN
BEGIN:VEVENT
SUMMARY:ZAAL - Alle niveaus les mijn vervangster is Marianne van Vliet
DTSTART;TZID=Europe/Amsterdam:20250413T100000
DTEND;TZID=Europe/Amsterdam:20250413T113000
LOCATION:kastelenstraat 170
DESCRIPTION: Iedereen ook beginners zijn welkom. Les gegeven door Marianne van Vliet.
Marianne is docent in Heiloo en bezoekt regelmatig de zondagmorgenles. Ze heeft aangeboden om deze les voor mij te vervangen en ik ben blij dat ik jullie nu toch een yogales kan aanbieden.
STATUS:CONFIRMED
SEQUENCE:0
END:VEVENT
END:VCALENDAR