BEGIN:VCALENDAR
VERSION:2.0
CALSCALE:GREGORIAN
BEGIN:VEVENT
SUMMARY:Zaal - Alle niveaus  gegeven door Rembert met assistentie van Tanya - iedereen welkom!
DTSTART;TZID=Europe/Amsterdam:20250706T100000
DTEND;TZID=Europe/Amsterdam:20250706T113000
LOCATION:kastelenstraat 170
DESCRIPTION: Iedereen ook beginners zijn welkom
STATUS:CONFIRMED
SEQUENCE:0
END:VEVENT
END:VCALENDAR