BEGIN:VCALENDAR
VERSION:2.0
CALSCALE:GREGORIAN
BEGIN:VEVENT
SUMMARY:Yin yoga
DTSTART;TZID=Europe/Paris:20260428T203000
DTEND;TZID=Europe/Paris:20260428T213000
LOCATION:au Mob hôtel, 6 rue Gambetta à Saint-Ouen.
DESCRIPTION: Le Yin yoga est une pratique lente permettant de se détendre en profondeur et de lâcher-prise. Les postures sont maintenues plusieurs minutes et la concentration doit être portée sur la respiration, calme et profonde.
Cette pratique posturale permet d&#039;agir sur les tissus profonds : ligaments, tendons, articulations, cartilage, os et réseaux fasciaux profonds ...
Ce cours est &quot;prénatal friendly&quot; avec des variations adaptées pour les femmes enceintes.
STATUS:CONFIRMED
SEQUENCE:0
END:VEVENT
END:VCALENDAR