BEGIN:VCALENDAR
VERSION:2.0
CALSCALE:GREGORIAN
BEGIN:VEVENT
SUMMARY:Yoga et Bain Sonore 🥁🪇🪈
DTSTART;TZID=Europe/Paris:20250328T120000
DTEND;TZID=Europe/Paris:20250328T130000
LOCATION:Trait d&#039;Union
DESCRIPTION: 
STATUS:CONFIRMED
SEQUENCE:0
END:VEVENT
END:VCALENDAR