BEGIN:VCALENDAR
VERSION:2.0
CALSCALE:GREGORIAN
BEGIN:VEVENT
SUMMARY:Yoga sur les bords de Marne ⛵️
DTSTART;TZID=Europe/Paris:20250802T110000
DTEND;TZID=Europe/Paris:20250802T120000
LOCATION:101 Quai Winston Churchill - Saint Maur des Fossés
DESCRIPTION: Rejoignez-nous pour des séances de yoga en plein air, dans un cadre paisible et ressourçant, au bord de la Marne.

✨ Tous niveaux bienvenus
Que vous soyez débutant(e) ou pratiquant(e) régulier(e), les séances sont accessibles à tous.
Respirez, étirez, reconnectez-vous à vous-même… tout en profitant du calme de la rivière et de la douceur de l’été.

📍 Lieu : 83 Quai Winston Churchill - 94210 Saint Maur des Fossés - Bords de Marne. Derrière le Château des Iles.
🗓️ Quand : Tous les samedis à 11h. 
🧺 Pensez à apporter votre tapis et une bouteille d’eau. Si vous n&#039;avez pas de tapis ou pas envie de vous charger avec le vôtre, aucun soucis, j&#039;en ai plusieurs à disposition ! Tenez moi simplement informée.

🌞 En cas de mauvais temps, nous vous tiendrons informés pour un éventuel report ou une séance en intérieur.

✨ Laissez-vous porter par l’énergie de la nature et venez pratiquer en toute sérénité.
STATUS:CONFIRMED
SEQUENCE:0
END:VEVENT
END:VCALENDAR