BEGIN:VCALENDAR
VERSION:2.0
CALSCALE:GREGORIAN
BEGIN:VEVENT
SUMMARY:Yoga Vinyasa- Magic Form Saint-Maur
DTSTART;TZID=Europe/Paris:20260122T093000
DTEND;TZID=Europe/Paris:20260122T103000
LOCATION:OM MY YOGA
DESCRIPTION: Magic Form Saint-Maur
57 avenue Henri Martin 
94100 Saint-Maur-des-Fossés 

Aucun réservation sur cette plate-forme. 
Se rendre directement sur place.
STATUS:CONFIRMED
SEQUENCE:0
END:VEVENT
END:VCALENDAR