BEGIN:VCALENDAR
VERSION:2.0
CALSCALE:GREGORIAN
BEGIN:VEVENT
SUMMARY:Jivamukti inspired Vinyasa Ioga. Irene Moreira
DTSTART;TZID=Europe/Madrid:20251011T090000
DTEND;TZID=Europe/Madrid:20251011T110000
LOCATION:
DESCRIPTION: Una classe de dues hores per fer a gust dissabte matí. 
Cada setmana una professora convidada diferent
STATUS:CONFIRMED
SEQUENCE:0
END:VEVENT
END:VCALENDAR