BEGIN:VCALENDAR
VERSION:2.0
CALSCALE:GREGORIAN
BEGIN:VEVENT
SUMMARY:⚠️ TANQUEM PER ALERTA DE TEMPORAL ⚠️
DTSTART;TZID=Europe/Madrid:20260212T090000
DTEND;TZID=Europe/Madrid:20260212T220000
LOCATION:
DESCRIPTION: ⚠️ TANQUEM PER ALERTA DE TEMPORAL ⚠️

Demà dijous 12 de febrer el centre de ioga romandrà tancat per raons de seguretat.
El Vallès Oriental està dins la zona de &quot;avís de perill molt alt&quot; fins a les 20:00h de la tarda de dijous. Creiem sensat seguir les indicacions de Protecció Civil. 

Ens sap greu les molèsties.

✅ Recordeu que podeu recuperar classes durant tot l&#039;any inclòs els dissabtes. Aquest dissabte dia 14 justament tenim classe de 9:00 a 11:00h

Una abraçada
Be safe 
Mireia
STATUS:CONFIRMED
SEQUENCE:0
END:VEVENT
END:VCALENDAR