BEGIN:VCALENDAR
VERSION:2.0
CALSCALE:GREGORIAN
BEGIN:VEVENT
SUMMARY:Mindful Chi Yoga Flow -changed time today due to clinic appointment
DTSTART;TZID=Europe/London:20241128T180000
DTEND;TZID=Europe/London:20241128T190000
LOCATION:Zoom online
DESCRIPTION: This is a slow flowing Yoga, including elements of  Chi Gung, that combines breath practices with body movement and meditation to balance and harmonise the chi (vital energy) in our bodies to attain deep focus and a relaxed state.
STATUS:CONFIRMED
SEQUENCE:0
END:VEVENT
END:VCALENDAR