BEGIN:VCALENDAR
VERSION:2.0
CALSCALE:GREGORIAN
BEGIN:VEVENT
SUMMARY:Mindful Yoga Christmas date &amp; time change
DTSTART;TZID=Europe/London:20241223T111500
DTEND;TZID=Europe/London:20241223T121500
LOCATION:Zoom online
DESCRIPTION: 
STATUS:CONFIRMED
SEQUENCE:0
END:VEVENT
END:VCALENDAR