BEGIN:VCALENDAR
VERSION:2.0
CALSCALE:GREGORIAN
BEGIN:VEVENT
SUMMARY:Teacher training Joost de Boer t/m zondag
DTSTART;TZID=Europe/Amsterdam:20211105T100000
DTEND;TZID=Europe/Amsterdam:20211105T170000
LOCATION:De Olmen
DESCRIPTION: 
STATUS:CONFIRMED
SEQUENCE:0
END:VEVENT
END:VCALENDAR