BEGIN:VCALENDAR
VERSION:2.0
CALSCALE:GREGORIAN
BEGIN:VEVENT
SUMMARY:Afternoon triggerpointsles, nog niet genoeg aanmeldingen
DTSTART;TZID=Europe/Amsterdam:20211003T160000
DTEND;TZID=Europe/Amsterdam:20211003T171500
LOCATION:De Olmen
DESCRIPTION: 
STATUS:CONFIRMED
SEQUENCE:0
END:VEVENT
END:VCALENDAR