BEGIN:VCALENDAR
VERSION:2.0
CALSCALE:GREGORIAN
BEGIN:VEVENT
SUMMARY:Bust a Move
DTSTART;TZID=Europe/Amsterdam:20220204T150000
DTEND;TZID=Europe/Amsterdam:20220204T161500
LOCATION:De Olmen
DESCRIPTION: Yin-Hatha-Slow Vinyasa-Vinyasa op hip-hop
STATUS:CONFIRMED
SEQUENCE:0
END:VEVENT
END:VCALENDAR