BEGIN:VCALENDAR
VERSION:2.0
CALSCALE:GREGORIAN
BEGIN:VEVENT
SUMMARY:yin/hatha/vinyasa....2 deelnemers,wie0-owie?
DTSTART;TZID=Europe/Amsterdam:20250625T093000
DTEND;TZID=Europe/Amsterdam:20250625T104500
LOCATION:Om Yoga Vught
DESCRIPTION: Voornamelijk Hatha, beetje yin in het begin
STATUS:CONFIRMED
SEQUENCE:0
END:VEVENT
END:VCALENDAR