BEGIN:VCALENDAR
VERSION:2.0
CALSCALE:GREGORIAN
BEGIN:VEVENT
SUMMARY:Oudejaars-Yin-XL
DTSTART;TZID=Europe/Amsterdam:20251231T100000
DTEND;TZID=Europe/Amsterdam:20251231T113000
LOCATION:De Olmen
DESCRIPTION: 
STATUS:CONFIRMED
SEQUENCE:0
END:VEVENT
END:VCALENDAR