BEGIN:VCALENDAR
VERSION:2.0
CALSCALE:GREGORIAN
BEGIN:VEVENT
SUMMARY:3 daags retreat www.myownretreat.com
DTSTART;TZID=Europe/Amsterdam:20210716T163000
DTEND;TZID=Europe/Amsterdam:20210716T165500
LOCATION:`De Schouw
DESCRIPTION: Kuuroord De Schouw Zeeland t/m zondag, opgeven via myownretreat.com
STATUS:CONFIRMED
SEQUENCE:0
END:VEVENT
END:VCALENDAR