BEGIN:VCALENDAR
VERSION:2.0
CALSCALE:GREGORIAN
BEGIN:VEVENT
SUMMARY:Yin Nidra Candlelight Yoga
DTSTART;TZID=Europe/Amsterdam:20250224T201500
DTEND;TZID=Europe/Amsterdam:20250224T211500
LOCATION:Onze zolder
DESCRIPTION: Yoga Nidra is een diepe, geleide meditatievorm ook wel bekend als yogische slaap. Terwijl je comfortabel ligt, word je stap voor stap begeleid naar een staat van diepe ontspanning tussen waken en slapen in. Dit helpt stress te verminderen, het zenuwstelsel te kalmeren en bevordert fysieke, mentale en emotionele rust.
STATUS:CONFIRMED
SEQUENCE:0
END:VEVENT
END:VCALENDAR