BEGIN:VCALENDAR
VERSION:2.0
CALSCALE:GREGORIAN
BEGIN:VEVENT
SUMMARY:Yin Meditatie Klankbeleving
DTSTART;TZID=Europe/Amsterdam:20250322T130000
DTEND;TZID=Europe/Amsterdam:20250322T140000
LOCATION:Onze zolder
DESCRIPTION: ✨ Opening Onze Zolder – Yin Meditatie &amp;amp; Klankbeleving ✨

Deze beleving is een cadeau van ons voor Jou! 

Deze zaterdag verzorgen Brenda  en Kari samen een bijzondere Yin yoga sessie, ondersteund door de klanken van klankschalen. Een zachte en meditatieve les, toegankelijk voor iedereen die een ontspannen yogamoment wil ervaren ter ere van de opening van Onze Zolder  

🧘 Tijd:13.00 – 14.00  
🥂 Officiële opening:14.15 – we heffen samen het glas met een hapje en een drankje!  

Wie neem jij mee om dit feestelijke moment samen te beleven? 💛✨  

📍 Meld je aan &amp;amp; vier met ons mee!
STATUS:CONFIRMED
SEQUENCE:0
END:VEVENT
END:VCALENDAR