BEGIN:VCALENDAR
VERSION:2.0
CALSCALE:GREGORIAN
BEGIN:VEVENT
SUMMARY:YIN YOGA
DTSTART;TZID=Europe/Paris:20250129T174500
DTEND;TZID=Europe/Paris:20250129T184500
LOCATION:4 chemin de Jorlis
DESCRIPTION: Relâchement musculaire dans un atmosphère de cocooning pour se libérer des tensions physiques et nerveuses...
STATUS:CONFIRMED
SEQUENCE:0
END:VEVENT
END:VCALENDAR