BEGIN:VCALENDAR
VERSION:2.0
CALSCALE:GREGORIAN
BEGIN:VEVENT
SUMMARY:Dance
DTSTART;TZID=Europe/London:20210621T190000
DTEND;TZID=Europe/London:20210621T200000
LOCATION:Dancing on the Driveway
DESCRIPTION: Tonight&#039;s class is at Bishops Park Community Centre due to the rain.
We&#039;re in the Club Room, next to the main hall.
Also this week the time is the later time of 7-8pm.
STATUS:CONFIRMED
SEQUENCE:0
END:VEVENT
END:VCALENDAR