BEGIN:VCALENDAR
VERSION:2.0
CALSCALE:GREGORIAN
BEGIN:VEVENT
SUMMARY:Yoga
DTSTART;TZID=Europe/London:20210508T101500
DTEND;TZID=Europe/London:20210508T111500
LOCATION:Joy Studios
DESCRIPTION: Bishops Park Community Centre
STATUS:CONFIRMED
SEQUENCE:0
END:VEVENT
END:VCALENDAR