BEGIN:VCALENDAR
VERSION:2.0
CALSCALE:GREGORIAN
BEGIN:VEVENT
SUMMARY:Yoga
DTSTART;TZID=Europe/London:20210911T101500
DTEND;TZID=Europe/London:20210911T111500
LOCATION:Bishops Park Community Centre
DESCRIPTION: Next 4 x week Yoga Beginners Course Starts Saturday 11th September
STATUS:CONFIRMED
SEQUENCE:0
END:VEVENT
END:VCALENDAR