BEGIN:VCALENDAR
VERSION:2.0
CALSCALE:GREGORIAN
BEGIN:VEVENT
SUMMARY:Dance
DTSTART;TZID=Europe/London:20210510T093000
DTEND;TZID=Europe/London:20210510T103000
LOCATION:Joy Studios
DESCRIPTION: Bishops Park Community centre
STATUS:CONFIRMED
SEQUENCE:0
END:VEVENT
END:VCALENDAR