BEGIN:VCALENDAR
VERSION:2.0
CALSCALE:GREGORIAN
BEGIN:VEVENT
SUMMARY:Dance
DTSTART;TZID=Europe/London:20210607T091500
DTEND;TZID=Europe/London:20210607T101500
LOCATION:Bishops Park Community Centre
DESCRIPTION: The first class back Is Monday 14th June
STATUS:CONFIRMED
SEQUENCE:0
END:VEVENT
END:VCALENDAR