BEGIN:VCALENDAR
VERSION:2.0
CALSCALE:GREGORIAN
BEGIN:VEVENT
SUMMARY:Vinyasa yoga(yoga dynamique)- tous niveaux
DTSTART;TZID=Europe/Paris:20260105T193000
DTEND;TZID=Europe/Paris:20260105T203000
LOCATION:Pilâtes attitude-Immeuble Topaze- 2 rue Jean Bonnardel 33140 Villenave d&#039;ornon
DESCRIPTION: 🔥 Vinyasa Yoga – Dynamisme &amp; Fluidité

Un cours énergisant qui allie mouvement et respiration dans une danse fluide et rythmée.
Chaque enchaînement de postures (asanas) est guidé par le souffle, créant un véritable flow qui développe force, souplesse et concentration.

Idéal pour :

Retrouver vitalité et énergie

Renforcer et tonifier le corps

Libérer les tensions du mental grâce au mouvement conscient

🔹 Tout niveau bienvenu : des options sont proposées pour adapter la pratique à chacun, que vous soyez débutant ou plus avancé.
🔹 Prévoir un tapis de yoga, deux briques et une sangle (ou foulard).

Un rendez-vous puissant et équilibrant, qui vous laissera à la fois ancré et léger. 🌿✨
STATUS:CONFIRMED
SEQUENCE:0
END:VEVENT
END:VCALENDAR