BEGIN:VCALENDAR
VERSION:2.0
CALSCALE:GREGORIAN
BEGIN:VEVENT
SUMMARY:Hatha yoga
DTSTART;TZID=Europe/Paris:20250619T174500
DTEND;TZID=Europe/Paris:20250619T184500
LOCATION:Espace Yoga Amiens
DESCRIPTION: Le cours a lieu à Espace Yoga Amiens, 70 rue des Jacobins, au fond de la cour, en bas des marches
STATUS:CONFIRMED
SEQUENCE:0
END:VEVENT
END:VCALENDAR