BEGIN:VCALENDAR
VERSION:2.0
CALSCALE:GREGORIAN
BEGIN:VEVENT
SUMMARY:REPLAY COURS DE JEUDI (Yin Yang Yoga)
DTSTART;TZID=Europe/Paris:20221102T180000
DTEND;TZID=Europe/Paris:20221102T191500
LOCATION:
DESCRIPTION: Replay disponible 7 jours
STATUS:CONFIRMED
SEQUENCE:0
END:VEVENT
END:VCALENDAR