BEGIN:VCALENDAR
VERSION:2.0
CALSCALE:GREGORIAN
BEGIN:VEVENT
SUMMARY:REPLAY DU YIN YOGA DU DIMANCHE 29.01.23
DTSTART;TZID=Europe/Paris:20230207T180000
DTEND;TZID=Europe/Paris:20230207T235500
LOCATION:de chez moi
DESCRIPTION: Délicieuse pratique de Yin en ce plein hiver...
Besoin d&#039;une sangle pour cette pratique en plus des supports habituels (booster, brique, couverture...)

Replay disponible jusqu&#039;au 06.02.2023
STATUS:CONFIRMED
SEQUENCE:0
END:VEVENT
END:VCALENDAR