BEGIN:VCALENDAR
VERSION:2.0
CALSCALE:GREGORIAN
BEGIN:VEVENT
SUMMARY:Vinyasa Flow - Plateau de l’Atalaye
DTSTART;TZID=Europe/Paris:20230822T093000
DTEND;TZID=Europe/Paris:20230822T104500
LOCATION:Plateau de l’Atalaye
DESCRIPTION: Je vous propose de me retrouver pour une pratique de Yoga Vinyasa en extérieur sur le plateau de l’Atalaye les pieds dans l’herbe face à l’océan!
Rdv devant la statue à droite de l’entrée du bar Olatu

Munissez-vous d’une gourde et de quoi vous protéger du soleil si besoin !

Apportez votre tapis ou grande serviette pour des raisons d&#039;hygiène et de sécurité sanitaire.

Possibilité de location de tapis désinfectés sur demande après réservation du cours par sms au 0662408815 (5€ en supplément à régler sur place)

Merci d&#039;arriver quelques minutes avant le début du cours afin de commencer à l’heure.
STATUS:CONFIRMED
SEQUENCE:0
END:VEVENT
END:VCALENDAR