BEGIN:VCALENDAR
VERSION:2.0
CALSCALE:GREGORIAN
BEGIN:VEVENT
SUMMARY:SUNRISE Beach Yoga
DTSTART;TZID=Europe/Paris:20230719T090000
DTEND;TZID=Europe/Paris:20230719T101500
LOCATION:Plage de l’Océan - Anglet
DESCRIPTION: Retrouvez-moi pour une pratique de Vinyasa Flow sur la plage de l’Océan à Anglet!

Un cadre merveilleux de bon matin avant d’aller faire un plouf! 

Munissez-vous d’une gourde et de quoi vous protéger du soleil si besoin !

Apportez votre tapis ou une grande serviette svp.
Rdv à la cabane de plage Ozeanoa au bout de l’avenue de l’Océan!

Merci d&#039;arriver quelques minutes avant le début du cours afin de commencer à l’heure.
STATUS:CONFIRMED
SEQUENCE:0
END:VEVENT
END:VCALENDAR