BEGIN:VCALENDAR
VERSION:2.0
CALSCALE:GREGORIAN
BEGIN:VEVENT
SUMMARY:Rug-nek-schouders yoga therapieles (docent Saskia)
DTSTART;TZID=Europe/Amsterdam:20200512T201500
DTEND;TZID=Europe/Amsterdam:20200512T211500
LOCATION:Buurtcentrum De Pelikaan
DESCRIPTION: In de rug-nek-schouder les is meer aandacht voor het gebied rond (boven)rug, nek en schouders, een gebied waar bij veel mensen spanning zit.
STATUS:CONFIRMED
SEQUENCE:0
END:VEVENT
END:VCALENDAR