BEGIN:VCALENDAR
VERSION:2.0
CALSCALE:GREGORIAN
BEGIN:VEVENT
SUMMARY:Hatha yoga 50+ (docent Han)
DTSTART;TZID=Europe/Amsterdam:20191205T190000
DTEND;TZID=Europe/Amsterdam:20191205T200000
LOCATION:Arianehof 13, Krommenie
DESCRIPTION: 
STATUS:CONFIRMED
SEQUENCE:0
END:VEVENT
END:VCALENDAR