BEGIN:VCALENDAR
VERSION:2.0
CALSCALE:GREGORIAN
BEGIN:VEVENT
SUMMARY:Yoga
DTSTART;TZID=America/New_York:20260708T190000
DTEND;TZID=America/New_York:20260708T200000
LOCATION:104 N Pennsylvania Ave, Centre Hall, PA 16828
DESCRIPTION: Please bring a yoga mat to class. However, if you don’t have one, a towel or blanket will work just fine! 🧘‍♀️
This will be a beginner-level yoga class, perfect for all experience levels.
$15.00 / Class we accept Cash, Check, or Venmo ( @the814dance)
STATUS:CONFIRMED
SEQUENCE:0
END:VEVENT
END:VCALENDAR