BEGIN:VCALENDAR
VERSION:2.0
CALSCALE:GREGORIAN
BEGIN:VEVENT
SUMMARY:Chilates workout Winter,  in Zuid Scharwoude
DTSTART;TZID=Europe/Amsterdam:20251115T100000
DTEND;TZID=Europe/Amsterdam:20251115T110000
LOCATION:Amelsgroet 46, Zuid Scharwoude
DESCRIPTION: ❄️ Chilates in de winter❄️
De winter is het seizoen van water – het element van diepte, stilte en innerlijke kracht. In deze Chialates-lessen brengen we aandacht naar de nier- en blaasmeridianen, die verbonden zijn met onze levensenergie, wilskracht en het vermogen om te vertrouwen te midden van verandering.

We bewegen met vloeiende, zachte strekkingen die spanning loslaten en de energiestroom herstellen. Terwijl we angst (de emotie van het water-element) erkennen, transformeren we die tot creativiteit, intuïtie en doorzettingsvermogen.

Zoals water – van beekje tot rivier, tot zee en oceaan – vinden wij ook onze weg. Water overwint alle obstakels, niet door strijd, maar door aanpassing, vindingrijkheid en volharding.

Laat de winter een uitnodiging zijn om te vertragen, te voelen en mee te stromen met de natuurlijke ritmes van het leven. 🌊
STATUS:CONFIRMED
SEQUENCE:0
END:VEVENT
END:VCALENDAR