BEGIN:VCALENDAR
VERSION:2.0
CALSCALE:GREGORIAN
BEGIN:VEVENT
SUMMARY:ChiLates in Bergen met Sandra
DTSTART;TZID=Europe/Amsterdam:20250604T103000
DTEND;TZID=Europe/Amsterdam:20250604T113000
LOCATION:Nesdijk 20h, Bergen
DESCRIPTION: Chilates is een les waarvan Pilates de basis vormt, maar waar bewegen wordt benaderd vanuit een oosterse zienswijze en aangevuld met onder meer rekoefeningen om niet alleen de flexibiliteit te bevorderen maar ook de circulatie. Hier komt het woord ‘Chi’ in de titel vandaan. Het heeft te maken met goed stromende energie en met het mogelijke blokkades opheffen.
STATUS:CONFIRMED
SEQUENCE:0
END:VEVENT
END:VCALENDAR