BEGIN:VCALENDAR
VERSION:2.0
CALSCALE:GREGORIAN
BEGIN:VEVENT
SUMMARY:Chilates online via Zoom
DTSTART;TZID=Europe/Amsterdam:20250905T170000
DTEND;TZID=Europe/Amsterdam:20250905T180000
LOCATION:Via whatsapp video
DESCRIPTION: 
STATUS:CONFIRMED
SEQUENCE:0
END:VEVENT
END:VCALENDAR