BEGIN:VCALENDAR
VERSION:2.0
CALSCALE:GREGORIAN
BEGIN:VEVENT
SUMMARY:Gecombineerde les Pilates met Judith in Noord Scharwoude
DTSTART;TZID=Europe/Amsterdam:20251223T193000
DTEND;TZID=Europe/Amsterdam:20251223T203000
LOCATION:Het Geboortehuys, Voorburggracht 285a, Noord Scharwoude
DESCRIPTION: 
STATUS:CONFIRMED
SEQUENCE:0
END:VEVENT
END:VCALENDAR