BEGIN:VCALENDAR
VERSION:2.0
CALSCALE:GREGORIAN
BEGIN:VEVENT
SUMMARY:Pilates met Bianca in Noord Scharwoude
DTSTART;TZID=Europe/Amsterdam:20260106T200000
DTEND;TZID=Europe/Amsterdam:20260106T210000
LOCATION:Het Geboortehuys, Voorburggracht 285A, Noord Scharwoude
DESCRIPTION: 
STATUS:CONFIRMED
SEQUENCE:0
END:VEVENT
END:VCALENDAR