BEGIN:VCALENDAR
VERSION:2.0
CALSCALE:GREGORIAN
BEGIN:VEVENT
SUMMARY:Online Chilates/Pilates via Zoom
DTSTART;TZID=Europe/Amsterdam:20260124T100000
DTEND;TZID=Europe/Amsterdam:20260124T110000
LOCATION:
DESCRIPTION: Net zo makkelijk, live online via Zoom, vanuit je eigen omgeving, zonder reistijd en in alle privacy.

Waarom online Pilates volgen?
Omdat kwaliteit niet afhankelijk is van een locatie.
Ik ben speciaal opgeleid om online Pilateslessen effectief en veilig te begeleiden, met duidelijke instructies en persoonlijke aandacht.

Je traint in je eigen omgeving, zonder reistijd, met focus, rust en resultaat.
Online werken we bewust: luisteren, voelen en gecontroleerd bewegen.

Professionele begeleiding. Flexibel. Effectief.
Gewoon bij jou thuis
STATUS:CONFIRMED
SEQUENCE:0
END:VEVENT
END:VCALENDAR