BEGIN:VCALENDAR
VERSION:2.0
CALSCALE:GREGORIAN
BEGIN:VEVENT
SUMMARY:Online les met de foamroller
DTSTART;TZID=Europe/Amsterdam:20260210T200000
DTEND;TZID=Europe/Amsterdam:20260210T210000
LOCATION:Amelsgroet
DESCRIPTION: Net zo makkelijk thuis met de foamroller.
STATUS:CONFIRMED
SEQUENCE:0
END:VEVENT
END:VCALENDAR