BEGIN:VCALENDAR
VERSION:2.0
CALSCALE:GREGORIAN
BEGIN:VEVENT
SUMMARY:Chilates/ Pilates buiten
DTSTART;TZID=Europe/Amsterdam:20260506T143000
DTEND;TZID=Europe/Amsterdam:20260506T153000
LOCATION:conform afspraak (tuin, meer of het strand)
DESCRIPTION: De kracht van de natuur 🌿 
Ontdek de diepe, therapeutische kracht van Pilates en Chilates by Denisa in de buitenlucht. Zonder materialen. Volledig focus op jezelf. Terwijl je beweegt, ademt en vertraagt, helpt de natuur je lichaam spanning los te laten en je energie weer vrij te laten stromen. Voel hoe alles weer in balans komt.
Een adembenemend moment helemaal voor jou. 🌿
De locatie is nader te bepalen en afhankelijk van het weer en het aantal deelnemers ( in de tuin, op het strand of bij de meer)
STATUS:CONFIRMED
SEQUENCE:0
END:VEVENT
END:VCALENDAR