BEGIN:VCALENDAR
VERSION:2.0
CALSCALE:GREGORIAN
BEGIN:VEVENT
SUMMARY:Goddess Reformer
DTSTART;TZID=Europe/Berlin:20260530T110000
DTEND;TZID=Europe/Berlin:20260530T115000
LOCATION:Marktstraße 35, 46045 Oberhausen, 4. OG
DESCRIPTION: In diesem Kurs liegt der Fokus auf Bauch, Beine &amp; Po! Fließenden, kraftvollen Bewegungen, die deine Körpermitte formen, deine Beine und deinen Po straffen und dir ein starkes, elegantes Körpergefühl geben. Du trainierst mit präzisen Übungen, die dich gleichzeitig herausfordern und deine Stärke betonen. Perfekt, um dich energiegeladen und selbstbewusst zu fühlen, wie eine Göttin.

Wichtige Hinweise: 
-Bitte sei 10 Minuten vor Kursbeginn da, um dich in Ruhe vorzubereiten.
-Denk dran Grip-Socken mitzubringen, ohne ist eine Kursteilnahme nicht möglich. 
-Handtuch und Wasser nicht vergessen.
STATUS:CONFIRMED
SEQUENCE:0
END:VEVENT
END:VCALENDAR